BEGIN:VCALENDAR
X-LOTUS-CHARSET:UTF-8
VERSION:2.0
PRODID:-//unihamburg/mundry
METHOD:PUBLISH
BEGIN:VTIMEZONE
TZID:Europe/Berlin
X-LIC-LOCATION:Europe/Berlin
BEGIN:DAYLIGHT
TZOFFSETFROM:+0100
TZOFFSETTO:+0200
TZNAME:CEST
DTSTART:19700329T020000
RRULE:FREQ=YEARLY;INTERVAL=1;BYDAY=-1SU;BYMONTH=3
END:DAYLIGHT
BEGIN:STANDARD
TZOFFSETFROM:+0200
TZOFFSETTO:+0100
TZNAME:CET
DTSTART:19701025T030000
RRULE:FREQ=YEARLY;INTERVAL=1;BYDAY=-1SU;BYMONTH=10
END:STANDARD
END:VTIMEZONE
BEGIN:VEVENT
UID:129684
CLASS:PUBLIC
SUMMARY:MINGZ GSP: Good Scientific Practice – May 
DTSTART;TZID=Europe/Berlin:20260528T090000
DTEND;TZID=Europe/Berlin:20260529T130000
DTSTAMP:20260420T0220Z
DESCRIPTION:The MIN Graduate Center recommends all doctoral researchers to participate in a seminar on Good Scientific Practice (Gute Wissenschaftliche Praxis). We will discuss important issues around a smooth and successful completion of your doctorate:\nIntroduction to the Bylaws of Good Scientific PracticeMisconduct in ResearchHandling DataPublication Process and AuthorshipResponsibility of Supervisors and the SupervisedAcademic FreedomResolving ConflictsSign up for this seminar to learn more about these and further topics!Please be sure to cancel your registration should you be unable to attend. The seminar will be held in English.\nSpeakers: Ingenuin Gasser (MIN Faculty, UHH), Carmen Schueler (CEN, UHH), Juliane Jakob (Center for Sustainable Research Data Management, UHH).\nDoctoral candidates who are admitted to the doctoral procedures at MIN faculty or are guest doctoral students at MIN faculty (including partner institutions) enroll for this course in Geventis. If you are not yet registered in Geventis, please follow the registration guides linked on the following webpage: https://www.promovieren.uni-hamburg.de/en/min/weiterbildung/geventis.html\nExternal doctoral candidates who are not associated to MIN faculty send an e-mail to mingz@uni-hamburg.de to participate in the course.\n
LOCATION:Campus Bahrenfeld, Notkestraße 85, 22607 Hamburg, Sem 01.030 Petra ext
END:VEVENT
END:VCALENDAR
