BEGIN:VCALENDAR
X-LOTUS-CHARSET:UTF-8
VERSION:2.0
PRODID:-//unihamburg/mundry
METHOD:PUBLISH
BEGIN:VTIMEZONE
TZID:Europe/Berlin
X-LIC-LOCATION:Europe/Berlin
BEGIN:DAYLIGHT
TZOFFSETFROM:+0100
TZOFFSETTO:+0200
TZNAME:CEST
DTSTART:19700329T020000
RRULE:FREQ=YEARLY;INTERVAL=1;BYDAY=-1SU;BYMONTH=3
END:DAYLIGHT
BEGIN:STANDARD
TZOFFSETFROM:+0200
TZOFFSETTO:+0100
TZNAME:CET
DTSTART:19701025T030000
RRULE:FREQ=YEARLY;INTERVAL=1;BYDAY=-1SU;BYMONTH=10
END:STANDARD
END:VTIMEZONE
BEGIN:VEVENT
UID:122988
CLASS:PUBLIC
SUMMARY:Career Options: Startklar für den öffentlichen Dienst
DTSTART;TZID=Europe/Berlin:20250917T174500
DTEND;TZID=Europe/Berlin:20250917T193000
DTSTAMP:20260421T0556Z
DESCRIPTION:Der öffentliche Dienst gilt als attraktiver Arbeitgeber mit sicheren Stellen und vielfältigen Entwicklungsmöglichkeiten. Für Berufseinsteiger:innen aus Hamburg bietet sich hier die Chance, verantwortungsvolle Positionen zu übernehmen und die Zukunft der Stadt mitzugestalten. Unser Netzwerkabend gibt Einblicke in die Vielzahl an Einstiegsmöglichkeiten in den öffentlichen Dienst und zeigt konkrete Karriereoptionen auf. Arbeitgeber stellen sich vor Ort vor, Expert:innen berichten von ihrem Karriereweg und beantworten Ihre individuellen Fragen. \nDas Neue Torhaus des Museums der Arbeit bietet uns hierfür eine kreative Atmosphäre. Erweitern Sie an diesem Abend Ihr Netzwerk und öffnen Sie Türen für Ihren nächsten Karriereschritt!\nProgramm:17:45 Uhr: Ankunft - Begrüßungsgetränk und Gebäck18:00 Uhr: Impuls- und Diskussionsrunde 18:45-19:30 Uhr: Networking - Im Gespräch mit Arbeitgebern und Expert:innen \nCareer Options: Informations- und Netzwerkveranstaltungen zum Thema außeruniversitärer Berufseinstieg: Unsere Reihe Career Options ist das Format für alle, die sich mit alternativen Karrierewegen und beruflichen Entwicklungsmöglichkeiten außerhalb der Universität beschäftigen möchten. Ziel ist es, Berufsbilder und Branchen durch praxisnahe Einblicke von Expert:innen lebendig zu vermitteln, um Orientierung zu bieten und einen offenen Raum für Austausch und Fragen zu schaffen.\nÖffentliche Veranstaltung: Unsere öffentlichen Veranstaltungen stehen allen Interessierten zur Verfügung, die das HRA-Programm kennenlernen und Einblicke in unsere Themen gewinnen möchten. Die Teilnahme ist unabhängig vom Wohnort oder der Hochschulzugehörigkeit möglich. Wir freuen uns auf Sie! Bitte melden Sie sich über die Webseite der Hamburg Research Academy an.\n
LOCATION:Torhaus des Museums der Arbeit, Wiesendamm 3,  22305 Hamburg, 
END:VEVENT
END:VCALENDAR
